BEGIN:VCALENDAR
VERSION:2.0
PRODID:-//eventon.com NONSGML v1.0//EN
BEGIN:VEVENT
UID:69e61e5df2989
DTSTAMP:20260420T053853
DTSTART:20220718
DTEND:20220721
TZID:Pacific/Midway
LOCATION:
SUMMARY:LIVE CORE VI (Seat Session)
DESCRIPTION: LIVE CORE VI (Seat Session)\nhttps://www.lviglobal.com/events/core-vi-seat-session/
URL:https://www.lviglobal.com/events/core-vi-seat-session/
END:VEVENT
END:VCALENDAR