BEGIN:VCALENDAR
VERSION:2.0
PRODID:-//eventon.com NONSGML v1.0//EN
BEGIN:VEVENT
UID:69e62131d4748
DTSTAMP:20260420T055057
DTSTART:20241204
DTEND:20241207
TZID:Pacific/Midway
LOCATION:
SUMMARY:CORE I (Las Vegas\,  NV)
DESCRIPTION: CORE I (Las Vegas\,  NV)\nhttps://www.lviglobal.com/events/core-i-location-tbd-6/
URL:https://www.lviglobal.com/events/core-i-location-tbd-6/
END:VEVENT
END:VCALENDAR